BEGIN:VCALENDAR
VERSION:2.0
PRODID:LFV Website-Kit
METHOD:PUBLISH
BEGIN:VEVENT
UID:lfv-b79551b2-86c1-4a7c-860b-28f94dbe7c72
LOCATION:
SUMMARY:150 Jahre Feuerwehr Hütting
DESCRIPTION:Termin Link: https://www.feuerwehr-ndsob.de/termine/150-jahre-feuerwehr-hutting/
URL:https://www.feuerwehr-ndsob.de/termine/150-jahre-feuerwehr-hutting/
CLASS:PRIVATE
DTSTART;TZID=Europe/Berlin:20270605T180000
DTEND;TZID=Europe/Berlin:20270606T220000
DTSTAMP:20260420T220009Z
END:VEVENT
END:VCALENDAR