BEGIN:VCALENDAR
VERSION:2.0
PRODID:LFV Website-Kit
METHOD:PUBLISH
BEGIN:VEVENT
UID:lfv-89f759de-c373-4c45-b17b-8067c3395e7e
LOCATION:
SUMMARY:150 Jahre Feuerwehr Tagmersheim
DESCRIPTION:Termin Link: https://www.feuerwehr-ndsob.de/termine/150-jahre-feuerwehr-tagmersheim/
URL:https://www.feuerwehr-ndsob.de/termine/150-jahre-feuerwehr-tagmersheim/
CLASS:PRIVATE
DTSTART;TZID=Europe/Berlin:20290510T180000
DTEND;TZID=Europe/Berlin:20290513T220000
DTSTAMP:20260422T121307Z
END:VEVENT
END:VCALENDAR