BEGIN:VCALENDAR
VERSION:2.0
PRODID:LFV Website-Kit
METHOD:PUBLISH
BEGIN:VEVENT
UID:lfv-77069960-2392-42af-b06b-79e3a8a18663
LOCATION:
SUMMARY:150 Jahre Feuerwehr Wagenhofen-Ballersdorf
DESCRIPTION:Termin Link: https://www.feuerwehr-ndsob.de/termine/150-jahre-feuerwehr-wagenhofen-ballersdorf/
URL:https://www.feuerwehr-ndsob.de/termine/150-jahre-feuerwehr-wagenhofen-ballersdorf/
CLASS:PRIVATE
DTSTART;TZID=Europe/Berlin:20290531T170000
DTEND;TZID=Europe/Berlin:20290603T220000
DTSTAMP:20260419T141754Z
END:VEVENT
END:VCALENDAR