BEGIN:VCALENDAR
VERSION:2.0
PRODID:LFV Website-Kit
METHOD:PUBLISH
BEGIN:VEVENT
UID:lfv-70c9c642-b1be-4569-98fc-c269c04c40ba
LOCATION:Freiwillige Feuerwehr Untermaxfeld  Neuburgerstraße 6  86669 Königsmoos
SUMMARY:Inspektionsbesprechung
DESCRIPTION:Termin Link: https://www.feuerwehr-ndsob.de/termine/inspektionsbesprechung-3/
URL:https://www.feuerwehr-ndsob.de/termine/inspektionsbesprechung-3/
CLASS:PRIVATE
DTSTART;TZID=Europe/Berlin:20240417T190000
DTEND;TZID=Europe/Berlin:20240417T200000
DTSTAMP:20260421T224403Z
END:VEVENT
END:VCALENDAR